BEGIN:VCALENDAR
VERSION:2.0
PRODID:-//heatevt.com//NONSGML kigkonsult.se iCalcreator 2.41.92//
CALSCALE:GREGORIAN
METHOD:PUBLISH
UID:37383537-3166-4331-b531-643565383131
X-WR-CALNAME:iCagenda
X-WR-CALDESC:Event Management Extension for Joomla!
X-WR-RELCALID:3E26604A-50F4-4449-8B3E-E4F4932D05B5
X-WR-TIMEZONE:America/Chicago
BEGIN:VTIMEZONE
TZID:America/Chicago
TZUNTIL:20270314T080000Z
BEGIN:STANDARD
TZNAME:CST
DTSTART:20241103T020000
TZOFFSETFROM:-0500
TZOFFSETTO:-0600
RDATE:20251102T020000
RDATE:20261101T020000
END:STANDARD
BEGIN:DAYLIGHT
TZNAME:CDT
DTSTART:20250309T020000
TZOFFSETFROM:-0600
TZOFFSETTO:-0500
RDATE:20260308T020000
END:DAYLIGHT
END:VTIMEZONE
BEGIN:VEVENT
UID:30323133-3733-4132-b839-636537373134
DTSTAMP:20260425T154943Z
CATEGORIES:Graham Frazier Leadership Award
CLASS:PUBLIC
DESCRIPTION:
DTSTART:20250820T170000Z
DTEND:20250820T171500Z
GEO:00;0
LOCATION:
ORGANIZER;CN=:mailto:john.alden@heatevt.com
SEQUENCE:1
SUMMARY:2025 Graham Frazier Leadership Award
TRANSP:OPAQUE
URL:https://heatevt.com/component/icagenda/5-2025-graham-frazier-leadership
 -award?layout=vcal
END:VEVENT
END:VCALENDAR
