BEGIN:VCALENDAR
VERSION:2.0
PRODID:-//heatevt.com//NONSGML kigkonsult.se iCalcreator 2.41.92//
CALSCALE:GREGORIAN
METHOD:PUBLISH
UID:34616433-3766-4137-b331-316435616638
X-WR-CALNAME:iCagenda
X-WR-CALDESC:Event Management Extension for Joomla!
X-WR-RELCALID:3E26604A-50F4-4449-8B3E-E4F4932D05B5
X-WR-TIMEZONE:America/Chicago
BEGIN:VTIMEZONE
TZID:America/Chicago
TZUNTIL:20270314T080000Z
BEGIN:STANDARD
TZNAME:CST
DTSTART:20241103T020000
TZOFFSETFROM:-0500
TZOFFSETTO:-0600
RDATE:20251102T020000
RDATE:20261101T020000
END:STANDARD
BEGIN:DAYLIGHT
TZNAME:CDT
DTSTART:20250309T020000
TZOFFSETFROM:-0600
TZOFFSETTO:-0500
RDATE:20260308T020000
END:DAYLIGHT
END:VTIMEZONE
BEGIN:VEVENT
UID:63393734-3731-4536-a635-663638363039
DTSTAMP:20260424T104937Z
CATEGORIES:Board Meeting
CLASS:PUBLIC
DESCRIPTION;ALTREP="CID:<FFFF__=0ABBE548DFE235B58f9e8a93d@coffeebean.com>":
 Time may change.&nbsp\; Trying to get clarification from Mark.&nbsp\;&nbsp
 \;
DTSTART:20250806T180000Z
DTEND:20250806T190000Z
GEO:00;0
LOCATION:
ORGANIZER:
SEQUENCE:1
SUMMARY:H.E.A.T. Board Meeting - 20250806
TRANSP:OPAQUE
URL:https://heatevt.com/component/icagenda/6-h-e-a-t-board-meeting-20250806
 ?layout=vcal
END:VEVENT
END:VCALENDAR
