BEGIN:VCALENDAR
VERSION:2.0
PRODID:-//heatevt.com//NONSGML kigkonsult.se iCalcreator 2.41.92//
CALSCALE:GREGORIAN
METHOD:PUBLISH
UID:61613065-6663-4230-a466-656235316435
X-WR-CALNAME:iCagenda
X-WR-CALDESC:Event Management Extension for Joomla!
X-WR-RELCALID:3E26604A-50F4-4449-8B3E-E4F4932D05B5
X-WR-TIMEZONE:America/Chicago
BEGIN:VTIMEZONE
TZID:America/Chicago
TZUNTIL:20271107T070000Z
BEGIN:STANDARD
TZNAME:CST
DTSTART:20251102T020000
TZOFFSETFROM:-0500
TZOFFSETTO:-0600
RDATE:20261101T020000
END:STANDARD
BEGIN:DAYLIGHT
TZNAME:CDT
DTSTART:20250309T020000
TZOFFSETFROM:-0600
TZOFFSETTO:-0500
RDATE:20260308T020000
RDATE:20270314T020000
END:DAYLIGHT
END:VTIMEZONE
BEGIN:VEVENT
UID:64316265-3066-4632-b666-303730663734
DTSTAMP:20260425T032628Z
CATEGORIES:Board Meeting
CLASS:PUBLIC
DESCRIPTION;ALTREP="CID:<FFFF__=0ABBE548DFE235B58f9e8a93d@coffeebean.com>":
 &nbsp\;\n&nbsp\;
DTSTART:20251209T190000Z
DTEND:20251209T200000Z
GEO:00;0
LOCATION:
ORGANIZER:
SEQUENCE:1
SUMMARY:H.E.A.T. Board Meeting - 20251209
TRANSP:OPAQUE
URL:https://heatevt.com/component/icagenda/7-h-e-a-t-board-meeting-20251209
 ?layout=vcal
END:VEVENT
END:VCALENDAR
